BEGIN:VCALENDAR
VERSION:2.0
PRODID:-//Vogelwerkgroep Zutphen e.o. - ECPv6.15.18//NONSGML v1.0//EN
CALSCALE:GREGORIAN
METHOD:PUBLISH
X-ORIGINAL-URL:https://www.vwg-zutphen.nl
X-WR-CALDESC:Evenementen voor Vogelwerkgroep Zutphen e.o.
REFRESH-INTERVAL;VALUE=DURATION:PT1H
X-Robots-Tag:noindex
X-PUBLISHED-TTL:PT1H
BEGIN:VTIMEZONE
TZID:Europe/Amsterdam
BEGIN:DAYLIGHT
TZOFFSETFROM:+0100
TZOFFSETTO:+0200
TZNAME:CEST
DTSTART:20250330T010000
END:DAYLIGHT
BEGIN:STANDARD
TZOFFSETFROM:+0200
TZOFFSETTO:+0100
TZNAME:CET
DTSTART:20251026T010000
END:STANDARD
BEGIN:DAYLIGHT
TZOFFSETFROM:+0100
TZOFFSETTO:+0200
TZNAME:CEST
DTSTART:20260329T010000
END:DAYLIGHT
BEGIN:STANDARD
TZOFFSETFROM:+0200
TZOFFSETTO:+0100
TZNAME:CET
DTSTART:20261025T010000
END:STANDARD
BEGIN:DAYLIGHT
TZOFFSETFROM:+0100
TZOFFSETTO:+0200
TZNAME:CEST
DTSTART:20270328T010000
END:DAYLIGHT
BEGIN:STANDARD
TZOFFSETFROM:+0200
TZOFFSETTO:+0100
TZNAME:CET
DTSTART:20271031T010000
END:STANDARD
END:VTIMEZONE
BEGIN:VEVENT
DTSTART;TZID=Europe/Amsterdam:20260913T000000
DTEND;TZID=Europe/Amsterdam:20260913T000000
DTSTAMP:20260421T142611
CREATED:20260408T071835Z
LAST-MODIFIED:20260409T194754Z
UID:4355-1789257600-1789257600@www.vwg-zutphen.nl
SUMMARY:Excursie naar de Pier IJmuiden
DESCRIPTION:Info volgt 14 dagen voor aanvang excursie (alleen voor leden)
URL:https://www.vwg-zutphen.nl/event/excursie-naar-de-pier-ijmuiden/
ATTACH;FMTTYPE=image/jpeg:https://www.vwg-zutphen.nl/wp-content/uploads/2023/11/20230320_110316-scaled.jpg
END:VEVENT
BEGIN:VEVENT
DTSTART;TZID=Europe/Amsterdam:20260916T000000
DTEND;TZID=Europe/Amsterdam:20260916T000000
DTSTAMP:20260421T142611
CREATED:20260408T075907Z
LAST-MODIFIED:20260408T081019Z
UID:4375-1789516800-1789516800@www.vwg-zutphen.nl
SUMMARY:Cursus Roofvogels
DESCRIPTION:Theorieavond 3
URL:https://www.vwg-zutphen.nl/event/cursus-roofvogels-3/
ATTACH;FMTTYPE=image/jpeg:https://www.vwg-zutphen.nl/wp-content/uploads/2025/10/144801246_1743567195817641_303749574902084148_n.jpg
END:VEVENT
BEGIN:VEVENT
DTSTART;TZID=Europe/Amsterdam:20260919T000000
DTEND;TZID=Europe/Amsterdam:20260919T000000
DTSTAMP:20260421T142611
CREATED:20260408T072115Z
LAST-MODIFIED:20260409T194557Z
UID:4357-1789776000-1789776000@www.vwg-zutphen.nl
SUMMARY:Publieke excursie Berkel
DESCRIPTION:Info volgt 14 dagen voor aanvang excursie.
URL:https://www.vwg-zutphen.nl/event/publieke-excursie-berkel/
ATTACH;FMTTYPE=image/jpeg:https://www.vwg-zutphen.nl/wp-content/uploads/2025/02/458994437_2736589443182073_172881028260606684_n.jpg
END:VEVENT
BEGIN:VEVENT
DTSTART;TZID=Europe/Amsterdam:20260919T000000
DTEND;TZID=Europe/Amsterdam:20260919T000000
DTSTAMP:20260421T142611
CREATED:20260408T081604Z
LAST-MODIFIED:20260409T193041Z
UID:4393-1789776000-1789776000@www.vwg-zutphen.nl
SUMMARY:Cursus Roofvogels
DESCRIPTION:Praktijk 3
URL:https://www.vwg-zutphen.nl/event/cursus-roofvogels-9/
ATTACH;FMTTYPE=image/jpeg:https://www.vwg-zutphen.nl/wp-content/uploads/2024/11/IMG_3868-scaled.jpg
END:VEVENT
END:VCALENDAR