BEGIN:VCALENDAR
VERSION:2.0
PRODID:-//Vogelwerkgroep Zutphen e.o. - ECPv6.15.18//NONSGML v1.0//EN
CALSCALE:GREGORIAN
METHOD:PUBLISH
X-WR-CALNAME:Vogelwerkgroep Zutphen e.o.
X-ORIGINAL-URL:https://www.vwg-zutphen.nl
X-WR-CALDESC:Evenementen voor Vogelwerkgroep Zutphen e.o.
REFRESH-INTERVAL;VALUE=DURATION:PT1H
X-Robots-Tag:noindex
X-PUBLISHED-TTL:PT1H
BEGIN:VTIMEZONE
TZID:Europe/Amsterdam
BEGIN:DAYLIGHT
TZOFFSETFROM:+0100
TZOFFSETTO:+0200
TZNAME:CEST
DTSTART:20250330T010000
END:DAYLIGHT
BEGIN:STANDARD
TZOFFSETFROM:+0200
TZOFFSETTO:+0100
TZNAME:CET
DTSTART:20251026T010000
END:STANDARD
BEGIN:DAYLIGHT
TZOFFSETFROM:+0100
TZOFFSETTO:+0200
TZNAME:CEST
DTSTART:20260329T010000
END:DAYLIGHT
BEGIN:STANDARD
TZOFFSETFROM:+0200
TZOFFSETTO:+0100
TZNAME:CET
DTSTART:20261025T010000
END:STANDARD
BEGIN:DAYLIGHT
TZOFFSETFROM:+0100
TZOFFSETTO:+0200
TZNAME:CEST
DTSTART:20270328T010000
END:DAYLIGHT
BEGIN:STANDARD
TZOFFSETFROM:+0200
TZOFFSETTO:+0100
TZNAME:CET
DTSTART:20271031T010000
END:STANDARD
END:VTIMEZONE
BEGIN:VEVENT
DTSTART;TZID=Europe/Amsterdam:20260620T000000
DTEND;TZID=Europe/Amsterdam:20260620T000000
DTSTAMP:20260423T134924
CREATED:20260329T090420Z
LAST-MODIFIED:20260329T094931Z
UID:4310-1781913600-1781913600@www.vwg-zutphen.nl
SUMMARY:Jonge vogelaars op pad naar de Ooievaars en oeverzwaluwen bij het Bronsbergermeer
DESCRIPTION:Zag je ooit zoveel ooievaars bij elkaar? Hoeveel nesten en ooievaars tellen we eigenlijk? Even\nverderop ligt het Bronsbergermeer waar we hopen oeverzwaluwen over het water te zien\nscheren onderweg naar hun nestholtes in de oeverwand. En speuren we naar de jonge\npulletjes van meerkoet\, waterhoen en die van de fuut in zijn gestreepte verenkleed
URL:https://www.vwg-zutphen.nl/event/jonge-vogelaars-op-pad-naar-de-ooievaars-en-oeverzwaluwen-bij-het-bronsbergermeer/
ATTACH;FMTTYPE=image/jpeg:https://www.vwg-zutphen.nl/wp-content/uploads/2025/08/1719-met-partner_12-7-2025-1-scaled.jpg
END:VEVENT
BEGIN:VEVENT
DTSTART;TZID=Europe/Amsterdam:20260611T000000
DTEND;TZID=Europe/Amsterdam:20260611T000000
DTSTAMP:20260423T134924
CREATED:20260329T093854Z
LAST-MODIFIED:20260408T074701Z
UID:4322-1781136000-1781136000@www.vwg-zutphen.nl
SUMMARY:Nachtzwaluw excursies Grote Veld/Kienveen/Gorsselse Heide 
DESCRIPTION:Avondexcursie. \nInfo volgt 14 dagen voor aanvang excursie (alleen voor leden)
URL:https://www.vwg-zutphen.nl/event/nachtzwaluw-excursies-grote-veld-kienveen-gorsselse-heide/
ATTACH;FMTTYPE=image/jpeg:https://www.vwg-zutphen.nl/wp-content/uploads/2024/10/Falsterbo-2023-foto-website-4.jpg
END:VEVENT
BEGIN:VEVENT
DTSTART;TZID=Europe/Amsterdam:20260607T000000
DTEND;TZID=Europe/Amsterdam:20260607T000000
DTSTAMP:20260423T134924
CREATED:20260408T071029Z
LAST-MODIFIED:20260409T195601Z
UID:4348-1780790400-1780790400@www.vwg-zutphen.nl
SUMMARY:Publieke excursie Begraafplaats
DESCRIPTION:Info volgt 14 dagen voor aanvang excursie
URL:https://www.vwg-zutphen.nl/event/publieke-excursie-begraafplaats/
ATTACH;FMTTYPE=image/jpeg:https://www.vwg-zutphen.nl/wp-content/uploads/2026/01/IMG_0951-scaled.jpg
END:VEVENT
BEGIN:VEVENT
DTSTART;TZID=Europe/Amsterdam:20260530T000000
DTEND;TZID=Europe/Amsterdam:20260530T000000
DTSTAMP:20260423T134924
CREATED:20260329T085947Z
LAST-MODIFIED:20260329T150902Z
UID:4308-1780099200-1780099200@www.vwg-zutphen.nl
SUMMARY:Op zoek met de Jonge vogelaars naar de voorjaarsvogels in Hackfort
DESCRIPTION:Het is volop voorjaar; kom mee naar buiten allemaal\, dan horen wij ….. Ja\, zou het\necht waar zijn? Die prachtig gele vogel met z’n vrolijke dudeljoo! Maar mochten we hem\nmissen dan zijn daar altijd nog de andere leuke voorjaarsvogels. Zien en horen we het\nzwartkopje of de tuinfluiter\, geelgors\, gekraagde roodstaart en wie zag ooit een grauwe\nvliegenvanger? Naderen we het open veld; dikke kans dat daar de rode wouw boven de\nvelden zweeft.
URL:https://www.vwg-zutphen.nl/event/op-zoek-met-de-jonge-vogelaars-naar-de-voorjaarsvogels-in-hackfort/
ATTACH;FMTTYPE=image/jpeg:https://www.vwg-zutphen.nl/wp-content/uploads/2025/10/36371663_956602551180780_8683376544736870400_n.jpg
END:VEVENT
BEGIN:VEVENT
DTSTART;TZID=Europe/Amsterdam:20260529T000000
DTEND;TZID=Europe/Amsterdam:20260531T000000
DTSTAMP:20260423T134924
CREATED:20260329T093247Z
LAST-MODIFIED:20260329T151045Z
UID:4317-1780012800-1780185600@www.vwg-zutphen.nl
SUMMARY:Weekend excursie Schagen Noord Holland.
DESCRIPTION:Alleen voor leden.\nAanmelden niet meer mogelijk \ninformatieblad_NH_weekend_2026
URL:https://www.vwg-zutphen.nl/event/weekend-excursie-schagen-noord-holland/
ATTACH;FMTTYPE=image/jpeg:https://www.vwg-zutphen.nl/wp-content/uploads/2024/10/Falsterbo-2023-foto-website-4.jpg
END:VEVENT
BEGIN:VEVENT
DTSTART;TZID=Europe/Amsterdam:20260520T100000
DTEND;TZID=Europe/Amsterdam:20260520T140000
DTSTAMP:20260423T134924
CREATED:20260408T073728Z
LAST-MODIFIED:20260408T073728Z
UID:4365-1779271200-1779285600@www.vwg-zutphen.nl
SUMMARY:Bestuur
DESCRIPTION:
URL:https://www.vwg-zutphen.nl/event/bestuur-2/
ATTACH;FMTTYPE=image/jpeg:https://www.vwg-zutphen.nl/wp-content/uploads/2024/09/Voorzittershamer.jpg
END:VEVENT
BEGIN:VEVENT
DTSTART;TZID=Europe/Amsterdam:20260510T000000
DTEND;TZID=Europe/Amsterdam:20260510T000000
DTSTAMP:20260423T134924
CREATED:20260329T085513Z
LAST-MODIFIED:20260329T094950Z
UID:4306-1778371200-1778371200@www.vwg-zutphen.nl
SUMMARY:Jonge vogelaars nemen een kijkje bij het ringen van uilen
DESCRIPTION:In de omgeving van Zutphen leven allerlei soorten uilen\, zoals de steen- en\nkerkuil. Omdat veel van hun natuurlijke broedplaatsen verdwenen zijn\, heeft de Zutphense\nuilenwerkgroep uilenkasten opgehangen op boerenerven en in schuren die daarvoor geschikt\nzijn. Om het gedrag en het leefgebied van de uilen te kunnen onderzoeken worden jonge\nuilen voorzien van een ringetje met nummer. Deze ochtend mogen we toekijken hoe het\nringen van uilen in z’n werk gaat.
URL:https://www.vwg-zutphen.nl/event/jonge-vogelaars-nemen-een-kijkje-bij-het-ringen-van-uilen/
ATTACH;FMTTYPE=image/jpeg:https://www.vwg-zutphen.nl/wp-content/uploads/2024/07/Messenger_creation_bd6f8199-22ef-47f6-a393-b90f56f0772d.jpeg
END:VEVENT
BEGIN:VEVENT
DTSTART;TZID=Europe/Amsterdam:20260430T000000
DTEND;TZID=Europe/Amsterdam:20260430T000000
DTSTAMP:20260423T134924
CREATED:20260422T112327Z
LAST-MODIFIED:20260422T112327Z
UID:4431-1777507200-1777507200@www.vwg-zutphen.nl
SUMMARY:Ommetje door en voor leden
DESCRIPTION:Dit keer verzorgen Louis Hemink en Hester Dekker\, Schapenmeer het aankomende Ommetje. \nMeer info volgt voor de leden per mail.
URL:https://www.vwg-zutphen.nl/event/ommetje-door-en-voor-leden/
ATTACH;FMTTYPE=image/jpeg:https://www.vwg-zutphen.nl/wp-content/uploads/2025/10/58461741_1175707592603607_6265055226873511936_n-1.jpg
END:VEVENT
BEGIN:VEVENT
DTSTART;TZID=Europe/Amsterdam:20260423T193000
DTEND;TZID=Europe/Amsterdam:20260423T223000
DTSTAMP:20260423T134924
CREATED:20260422T111231Z
LAST-MODIFIED:20260422T111640Z
UID:4425-1776972600-1776983400@www.vwg-zutphen.nl
SUMMARY:VWG-café
DESCRIPTION:VWG-café in de Uitwijk\, De Brink 116\, Zutphen.( Alleen voor leden)\nDe lente is in volle gang. Overal hoor je gefluit\, getjilp en\nprachtige vogeldeuntjes en zie je de vogels met veel zorg bouwen aan hun nest.\nDe eerste zwaluwen zijn al gesignaleerd in Zutphen.\nVoor het café hebben we een mooi programma bedacht in willekeurige volgorde lees verder in de link hieronder.\n \nVWG café 23 april
URL:https://www.vwg-zutphen.nl/event/vwg-cafe/
ATTACH;FMTTYPE=image/jpeg:https://www.vwg-zutphen.nl/wp-content/uploads/2024/08/Grutto-2023.jpg
END:VEVENT
BEGIN:VEVENT
DTSTART;TZID=Europe/Amsterdam:20260420T074500
DTEND;TZID=Europe/Amsterdam:20260420T131500
DTSTAMP:20260423T134924
CREATED:20260329T091716Z
LAST-MODIFIED:20260408T084132Z
UID:4314-1776671100-1776690900@www.vwg-zutphen.nl
SUMMARY:Steengroeve en Döttinkrade Excursie Winterswijk
DESCRIPTION:Aanmelden niet meer mogelijk ( Volgeboekt ) \nexc 20 april 2026 Steengroeve&Dottinkrade\, Winterswijk (1) (1) \n 
URL:https://www.vwg-zutphen.nl/event/steengroeve-en-dottinkrade-excursie-winterswijk/
ATTACH;FMTTYPE=image/jpeg:https://www.vwg-zutphen.nl/wp-content/uploads/2024/10/Falsterbo-2023-foto-website-4.jpg
END:VEVENT
END:VCALENDAR