BEGIN:VCALENDAR
VERSION:2.0
PRODID:-//Vogelwerkgroep Zutphen e.o. - ECPv6.15.18//NONSGML v1.0//EN
CALSCALE:GREGORIAN
METHOD:PUBLISH
X-WR-CALNAME:Vogelwerkgroep Zutphen e.o.
X-ORIGINAL-URL:https://www.vwg-zutphen.nl
X-WR-CALDESC:Evenementen voor Vogelwerkgroep Zutphen e.o.
REFRESH-INTERVAL;VALUE=DURATION:PT1H
X-Robots-Tag:noindex
X-PUBLISHED-TTL:PT1H
BEGIN:VTIMEZONE
TZID:Europe/Amsterdam
BEGIN:DAYLIGHT
TZOFFSETFROM:+0100
TZOFFSETTO:+0200
TZNAME:CEST
DTSTART:20250330T010000
END:DAYLIGHT
BEGIN:STANDARD
TZOFFSETFROM:+0200
TZOFFSETTO:+0100
TZNAME:CET
DTSTART:20251026T010000
END:STANDARD
BEGIN:DAYLIGHT
TZOFFSETFROM:+0100
TZOFFSETTO:+0200
TZNAME:CEST
DTSTART:20260329T010000
END:DAYLIGHT
BEGIN:STANDARD
TZOFFSETFROM:+0200
TZOFFSETTO:+0100
TZNAME:CET
DTSTART:20261025T010000
END:STANDARD
BEGIN:DAYLIGHT
TZOFFSETFROM:+0100
TZOFFSETTO:+0200
TZNAME:CEST
DTSTART:20270328T010000
END:DAYLIGHT
BEGIN:STANDARD
TZOFFSETFROM:+0200
TZOFFSETTO:+0100
TZNAME:CET
DTSTART:20271031T010000
END:STANDARD
END:VTIMEZONE
BEGIN:VEVENT
DTSTART;TZID=Europe/Amsterdam:20260430T000000
DTEND;TZID=Europe/Amsterdam:20260430T000000
DTSTAMP:20260423T121719
CREATED:20260422T112327Z
LAST-MODIFIED:20260422T112327Z
UID:4431-1777507200-1777507200@www.vwg-zutphen.nl
SUMMARY:Ommetje door en voor leden
DESCRIPTION:Dit keer verzorgen Louis Hemink en Hester Dekker\, Schapenmeer het aankomende Ommetje. \nMeer info volgt voor de leden per mail.
URL:https://www.vwg-zutphen.nl/event/ommetje-door-en-voor-leden/
ATTACH;FMTTYPE=image/jpeg:https://www.vwg-zutphen.nl/wp-content/uploads/2025/10/58461741_1175707592603607_6265055226873511936_n-1.jpg
END:VEVENT
BEGIN:VEVENT
DTSTART;TZID=Europe/Amsterdam:20260423T193000
DTEND;TZID=Europe/Amsterdam:20260423T223000
DTSTAMP:20260423T121719
CREATED:20260422T111231Z
LAST-MODIFIED:20260422T111640Z
UID:4425-1776972600-1776983400@www.vwg-zutphen.nl
SUMMARY:VWG-café
DESCRIPTION:VWG-café in de Uitwijk\, De Brink 116\, Zutphen.( Alleen voor leden)\nDe lente is in volle gang. Overal hoor je gefluit\, getjilp en\nprachtige vogeldeuntjes en zie je de vogels met veel zorg bouwen aan hun nest.\nDe eerste zwaluwen zijn al gesignaleerd in Zutphen.\nVoor het café hebben we een mooi programma bedacht in willekeurige volgorde lees verder in de link hieronder.\n \nVWG café 23 april
URL:https://www.vwg-zutphen.nl/event/vwg-cafe/
ATTACH;FMTTYPE=image/jpeg:https://www.vwg-zutphen.nl/wp-content/uploads/2024/08/Grutto-2023.jpg
END:VEVENT
BEGIN:VEVENT
DTSTART;TZID=Europe/Amsterdam:20260420T074500
DTEND;TZID=Europe/Amsterdam:20260420T131500
DTSTAMP:20260423T121719
CREATED:20260329T091716Z
LAST-MODIFIED:20260408T084132Z
UID:4314-1776671100-1776690900@www.vwg-zutphen.nl
SUMMARY:Steengroeve en Döttinkrade Excursie Winterswijk
DESCRIPTION:Aanmelden niet meer mogelijk ( Volgeboekt ) \nexc 20 april 2026 Steengroeve&Dottinkrade\, Winterswijk (1) (1) \n 
URL:https://www.vwg-zutphen.nl/event/steengroeve-en-dottinkrade-excursie-winterswijk/
ATTACH;FMTTYPE=image/jpeg:https://www.vwg-zutphen.nl/wp-content/uploads/2024/10/Falsterbo-2023-foto-website-4.jpg
END:VEVENT
END:VCALENDAR